BEGIN:VCALENDAR
VERSION:2.0
PRODID:-//Nashat.co.uk | Official Website - ECPv6.15.20//NONSGML v1.0//EN
CALSCALE:GREGORIAN
METHOD:PUBLISH
X-WR-CALNAME:Nashat.co.uk | Official Website
X-ORIGINAL-URL:https://nashat.co.uk
X-WR-CALDESC:Events for Nashat.co.uk | Official Website
REFRESH-INTERVAL;VALUE=DURATION:PT1H
X-Robots-Tag:noindex
X-PUBLISHED-TTL:PT1H
BEGIN:VTIMEZONE
TZID:Europe/London
BEGIN:DAYLIGHT
TZOFFSETFROM:+0000
TZOFFSETTO:+0100
TZNAME:BST
DTSTART:20230326T010000
END:DAYLIGHT
BEGIN:STANDARD
TZOFFSETFROM:+0100
TZOFFSETTO:+0000
TZNAME:GMT
DTSTART:20231029T010000
END:STANDARD
BEGIN:DAYLIGHT
TZOFFSETFROM:+0000
TZOFFSETTO:+0100
TZNAME:BST
DTSTART:20240331T010000
END:DAYLIGHT
BEGIN:STANDARD
TZOFFSETFROM:+0100
TZOFFSETTO:+0000
TZNAME:GMT
DTSTART:20241027T010000
END:STANDARD
BEGIN:DAYLIGHT
TZOFFSETFROM:+0000
TZOFFSETTO:+0100
TZNAME:BST
DTSTART:20250330T010000
END:DAYLIGHT
BEGIN:STANDARD
TZOFFSETFROM:+0100
TZOFFSETTO:+0000
TZNAME:GMT
DTSTART:20251026T010000
END:STANDARD
END:VTIMEZONE
BEGIN:VEVENT
DTSTART;TZID=Europe/London:20240427T193000
DTEND;TZID=Europe/London:20240427T213000
DTSTAMP:20260421T205521
CREATED:20240314T224741Z
LAST-MODIFIED:20240315T014737Z
UID:29923-1714246200-1714253400@nashat.co.uk
SUMMARY:Unplug from the matrix with Wu’Sabat part 2
DESCRIPTION:His Excellency Dr Malachi Z. K. York has told us to give them back everything. Learn how to do this for our survival. \n  \nYou can also join us on Zoom for this event. \n \nZOOM: Meeting ID: 850 4532 6094 PASSCODE: nashat999
URL:https://nashat.co.uk/event/unplug-from-the-matrix-with-wusabat-part-2/
LOCATION:Nashat\, 101 Church Street\, Crroydon\, Surrey\, CR0 1RN\, United Kingdom
CATEGORIES:Community
ATTACH;FMTTYPE=image/jpeg:https://nashat.co.uk/wp-content/uploads/2024/03/IMG_2716.jpeg
ORGANIZER;CN="Nashat":MAILTO:nashatukstore@gmail.com
END:VEVENT
END:VCALENDAR