BEGIN:VCALENDAR
VERSION:2.0
PRODID:-//Nashat.co.uk | Official Website - ECPv6.15.20//NONSGML v1.0//EN
CALSCALE:GREGORIAN
METHOD:PUBLISH
X-WR-CALNAME:Nashat.co.uk | Official Website
X-ORIGINAL-URL:https://nashat.co.uk
X-WR-CALDESC:Events for Nashat.co.uk | Official Website
REFRESH-INTERVAL;VALUE=DURATION:PT1H
X-Robots-Tag:noindex
X-PUBLISHED-TTL:PT1H
BEGIN:VTIMEZONE
TZID:Europe/London
BEGIN:DAYLIGHT
TZOFFSETFROM:+0000
TZOFFSETTO:+0100
TZNAME:BST
DTSTART:20230326T010000
END:DAYLIGHT
BEGIN:STANDARD
TZOFFSETFROM:+0100
TZOFFSETTO:+0000
TZNAME:GMT
DTSTART:20231029T010000
END:STANDARD
BEGIN:DAYLIGHT
TZOFFSETFROM:+0000
TZOFFSETTO:+0100
TZNAME:BST
DTSTART:20240331T010000
END:DAYLIGHT
BEGIN:STANDARD
TZOFFSETFROM:+0100
TZOFFSETTO:+0000
TZNAME:GMT
DTSTART:20241027T010000
END:STANDARD
BEGIN:DAYLIGHT
TZOFFSETFROM:+0000
TZOFFSETTO:+0100
TZNAME:BST
DTSTART:20250330T010000
END:DAYLIGHT
BEGIN:STANDARD
TZOFFSETFROM:+0100
TZOFFSETTO:+0000
TZNAME:GMT
DTSTART:20251026T010000
END:STANDARD
END:VTIMEZONE
BEGIN:VEVENT
DTSTART;TZID=Europe/London:20240625T000000
DTEND;TZID=Europe/London:20240626T050000
DTSTAMP:20260421T181647
CREATED:20240512T123253Z
LAST-MODIFIED:20240530T200938Z
UID:30131-1719273600-1719378000@nashat.co.uk
SUMMARY:Drumming Ceremony - Protectors of the "Night"
DESCRIPTION:We bring in our New Year from 12am June 25th to “Sunrise”.  Come join us.  Bring your drum.
URL:https://nashat.co.uk/event/drumming-ceremony-protectors-of-the-night/
CATEGORIES:Community
ATTACH;FMTTYPE=image/png:https://nashat.co.uk/wp-content/uploads/2024/05/drumCeremony-cancelled.png
END:VEVENT
END:VCALENDAR