BEGIN:VCALENDAR
VERSION:2.0
PRODID:-//Nashat.co.uk | Official Website - ECPv6.15.20//NONSGML v1.0//EN
CALSCALE:GREGORIAN
METHOD:PUBLISH
X-WR-CALNAME:Nashat.co.uk | Official Website
X-ORIGINAL-URL:https://nashat.co.uk
X-WR-CALDESC:Events for Nashat.co.uk | Official Website
REFRESH-INTERVAL;VALUE=DURATION:PT1H
X-Robots-Tag:noindex
X-PUBLISHED-TTL:PT1H
BEGIN:VTIMEZONE
TZID:UTC
BEGIN:STANDARD
TZOFFSETFROM:+0000
TZOFFSETTO:+0000
TZNAME:UTC
DTSTART:20200101T000000
END:STANDARD
END:VTIMEZONE
BEGIN:VTIMEZONE
TZID:UTC
BEGIN:STANDARD
TZOFFSETFROM:+0000
TZOFFSETTO:+0000
TZNAME:UTC
DTSTART:20210101T000000
END:STANDARD
END:VTIMEZONE
BEGIN:VEVENT
DTSTART;VALUE=DATE:20230310
DTEND;VALUE=DATE:20230313
DTSTAMP:20260422T231628
CREATED:20230101T211752Z
LAST-MODIFIED:20230101T222459Z
UID:28722-1678406400-1678665599@nashat.co.uk
SUMMARY:WOW Women Of The World London Festival
DESCRIPTION:The WOW foundation  exists to build\, convene and sustain a global movement that believes a gender equal world is desirable\, possible and urgently required.
URL:https://nashat.co.uk/event/wow-women-of-the-world-london-festival/
CATEGORIES:Community
ATTACH;FMTTYPE=image/png:https://nashat.co.uk/wp-content/uploads/2023/01/WOW-Event.png
ORGANIZER;CN="South Bank Centre":MAILTO:hello@thewowfoundation.com
END:VEVENT
BEGIN:VEVENT
DTSTART;TZID=UTC:20220218T190000
DTEND;TZID=UTC:20220218T220000
DTSTAMP:20260422T231628
CREATED:20220208T164811Z
LAST-MODIFIED:20230103T145617Z
UID:26462-1645210800-1645221600@nashat.co.uk
SUMMARY:Open Mic Night\, Friendship Day Special
DESCRIPTION:
URL:https://nashat.co.uk/event/open-mic-night-friendship-day-special/
LOCATION:Nashat\, 101 Church Street\, Crroydon\, Surrey\, CR0 1RN\, United Kingdom
CATEGORIES:Community
ATTACH;FMTTYPE=image/jpeg:https://nashat.co.uk/wp-content/uploads/2022/02/openMIC-18th-2022.jpeg
ORGANIZER;CN="Nashat":MAILTO:nashatukstore@gmail.com
END:VEVENT
BEGIN:VEVENT
DTSTART;TZID=UTC:20210522T190000
DTEND;TZID=UTC:20210522T213000
DTSTAMP:20260422T231628
CREATED:20210517T221229Z
LAST-MODIFIED:20230318T155314Z
UID:24052-1621710000-1621719000@nashat.co.uk
SUMMARY:Q&A/Topic Class
DESCRIPTION:Weekly Q&A/Topic classes every Saturday 7pm GMT breaking down information on Wu-Sabat (Our Culture)/information and outformation.  All are welcome to come along physically (if available) or join via Zoom or Clubhouse. CLICK HERE FOR ZOOM AND CLUBHOUSE LINK. \nAsk any questions you may have regarding anything you have sought answers without success. We address all questions with Actual Facts\, Paa Taruq (The Way)\, The Master’s Secrets\, Right-Knowledge\, Right-Wisdom\, Right-Overstanding leading you to Right-Reasoning.
URL:https://nashat.co.uk/event/qa-topic-class/
LOCATION:Nashat\, 101 Church Street\, Crroydon\, Surrey\, CR0 1RN\, United Kingdom
CATEGORIES:Community
ATTACH;FMTTYPE=image/png:https://nashat.co.uk/wp-content/uploads/2022/12/class-png.png
END:VEVENT
END:VCALENDAR