BEGIN:VCALENDAR
VERSION:2.0
PRODID:-//Nashat.co.uk | Official Website - ECPv6.15.20//NONSGML v1.0//EN
CALSCALE:GREGORIAN
METHOD:PUBLISH
X-ORIGINAL-URL:https://nashat.co.uk
X-WR-CALDESC:Events for Nashat.co.uk | Official Website
REFRESH-INTERVAL;VALUE=DURATION:PT1H
X-Robots-Tag:noindex
X-PUBLISHED-TTL:PT1H
BEGIN:VTIMEZONE
TZID:Europe/London
BEGIN:DAYLIGHT
TZOFFSETFROM:+0000
TZOFFSETTO:+0100
TZNAME:BST
DTSTART:20220327T010000
END:DAYLIGHT
BEGIN:STANDARD
TZOFFSETFROM:+0100
TZOFFSETTO:+0000
TZNAME:GMT
DTSTART:20221030T010000
END:STANDARD
BEGIN:DAYLIGHT
TZOFFSETFROM:+0000
TZOFFSETTO:+0100
TZNAME:BST
DTSTART:20230326T010000
END:DAYLIGHT
BEGIN:STANDARD
TZOFFSETFROM:+0100
TZOFFSETTO:+0000
TZNAME:GMT
DTSTART:20231029T010000
END:STANDARD
BEGIN:DAYLIGHT
TZOFFSETFROM:+0000
TZOFFSETTO:+0100
TZNAME:BST
DTSTART:20240331T010000
END:DAYLIGHT
BEGIN:STANDARD
TZOFFSETFROM:+0100
TZOFFSETTO:+0000
TZNAME:GMT
DTSTART:20241027T010000
END:STANDARD
END:VTIMEZONE
BEGIN:VEVENT
DTSTART;TZID=Europe/London:20231021T140000
DTEND;TZID=Europe/London:20231021T213000
DTSTAMP:20260422T042943
CREATED:20231017T131309Z
LAST-MODIFIED:20231017T131309Z
UID:29569-1697896800-1697923800@nashat.co.uk
SUMMARY:Black History Month @Nashat
DESCRIPTION:
URL:https://nashat.co.uk/event/black-history-month-nashat/
CATEGORIES:Community
ATTACH;FMTTYPE=image/jpeg:https://nashat.co.uk/wp-content/uploads/2023/10/Black-history-month-flyer-scaled.jpg
ORGANIZER;CN="Nashat":MAILTO:nashatukstore@gmail.com
END:VEVENT
END:VCALENDAR